BEGIN:VCALENDAR
VERSION:2.0
PRODID:-//Town of Grant, Portage Co - ECPv5.16.4//NONSGML v1.0//EN
CALSCALE:GREGORIAN
METHOD:PUBLISH
X-WR-CALNAME:Town of Grant, Portage Co
X-ORIGINAL-URL:https://townofgrant-portage.wi.gov
X-WR-CALDESC:Events for Town of Grant, Portage Co
REFRESH-INTERVAL;VALUE=DURATION:PT1H
X-Robots-Tag:noindex
X-PUBLISHED-TTL:PT1H
BEGIN:VTIMEZONE
TZID:America/Chicago
BEGIN:DAYLIGHT
TZOFFSETFROM:-0600
TZOFFSETTO:-0500
TZNAME:CDT
DTSTART:20250309T080000
END:DAYLIGHT
BEGIN:STANDARD
TZOFFSETFROM:-0500
TZOFFSETTO:-0600
TZNAME:CST
DTSTART:20251102T070000
END:STANDARD
END:VTIMEZONE
BEGIN:VEVENT
DTSTART;TZID=America/Chicago:20251210T180000
DTEND;TZID=America/Chicago:20251210T180000
DTSTAMP:20260424T133614
CREATED:20230428T225603Z
LAST-MODIFIED:20230428T225603Z
UID:5200-1765389600-1765389600@townofgrant-portage.wi.gov
SUMMARY:Monthly Town Board Meeting
DESCRIPTION:
URL:https://townofgrant-portage.wi.gov/event/monthly-town-board-meeting-2-2024-03-13-2025-01-08-2025-03-12-2025-12-10/
CATEGORIES:Town Board
ATTACH;FMTTYPE=image/png:https://cdn.townweb.com/townofgrant-portage.wi.gov/wp-content/uploads/2023/04/notice-of-board-meeting.png
END:VEVENT
BEGIN:VEVENT
DTSTART;TZID=America/Chicago:20251210T180000
DTEND;TZID=America/Chicago:20251210T180000
DTSTAMP:20260424T133614
CREATED:20230428T225603Z
LAST-MODIFIED:20230428T225603Z
UID:5211-1765389600-1765389600@townofgrant-portage.wi.gov
SUMMARY:Monthly Town Board Meeting
DESCRIPTION:
URL:https://townofgrant-portage.wi.gov/event/monthly-town-board-meeting-2-2024-03-13-2025-01-08-2025-03-12-2025-04-09-2025-12-10/
CATEGORIES:Town Board
ATTACH;FMTTYPE=image/png:https://cdn.townweb.com/townofgrant-portage.wi.gov/wp-content/uploads/2023/04/notice-of-board-meeting.png
END:VEVENT
BEGIN:VEVENT
DTSTART;TZID=America/Chicago:20251210T180000
DTEND;TZID=America/Chicago:20251210T180000
DTSTAMP:20260424T133614
CREATED:20250124T011918Z
LAST-MODIFIED:20250124T011918Z
UID:5236-1765389600-1765389600@townofgrant-portage.wi.gov
SUMMARY:Monthly Town Board Meeting
DESCRIPTION:
URL:https://townofgrant-portage.wi.gov/event/monthly-town-board-meeting-3/2025-12-10/
CATEGORIES:Town Board
END:VEVENT
BEGIN:VEVENT
DTSTART;TZID=America/Chicago:20251210T183000
DTEND;TZID=America/Chicago:20251210T193000
DTSTAMP:20260424T133614
CREATED:20251122T184711Z
LAST-MODIFIED:20251122T184711Z
UID:5999-1765391400-1765395000@townofgrant-portage.wi.gov
SUMMARY:Public Hearing: Conditional Use Permit
DESCRIPTION:NOTICE OF PUBLIC HEARING \nTOWN OF GRANT \nWednesday\, December 10th\, 2025 \n6:30 p.m. \nThe Town of Grant will conduct a Public Hearing to solicit citizen’s input on a request\, from Tim O’Connor for a Conditional Use Permit for a Storage Condominium for Multi-Function Storage and Work Buildings on property zoned Commercial located at 90th Street North and State Highway 54 (parcel number: 018220705-06.03).  The Hearing will be at 6:30 p.m. on Wednesday\, December 10\, 2025 at the Town Hall\, 9011 County Road WW.  Written Comments can also be submitted to the Town Clerk until 6:30 p.m. the day of the hearing. \nStefanie Schlapa \nTown of Grant Clerk \nStefanie Schlapa
URL:https://townofgrant-portage.wi.gov/event/public-hearing-conditional-use-permit-2/
CATEGORIES:Town Board
ATTACH;FMTTYPE=image/jpeg:https://cdn.townweb.com/townofgrant-portage.wi.gov/wp-content/uploads/2024/03/NOTICE-768x644-1.jpg
END:VEVENT
END:VCALENDAR