BEGIN:VCALENDAR
VERSION:2.0
PRODID:-//Town of Grant, Portage Co - ECPv5.16.4//NONSGML v1.0//EN
CALSCALE:GREGORIAN
METHOD:PUBLISH
X-WR-CALNAME:Town of Grant, Portage Co
X-ORIGINAL-URL:https://townofgrant-portage.wi.gov
X-WR-CALDESC:Events for Town of Grant, Portage Co
REFRESH-INTERVAL;VALUE=DURATION:PT1H
X-Robots-Tag:noindex
X-PUBLISHED-TTL:PT1H
BEGIN:VTIMEZONE
TZID:America/Chicago
BEGIN:DAYLIGHT
TZOFFSETFROM:-0600
TZOFFSETTO:-0500
TZNAME:CDT
DTSTART:20260308T080000
END:DAYLIGHT
BEGIN:STANDARD
TZOFFSETFROM:-0500
TZOFFSETTO:-0600
TZNAME:CST
DTSTART:20261101T070000
END:STANDARD
END:VTIMEZONE
BEGIN:VEVENT
DTSTART;TZID=America/Chicago:20260324T073000
DTEND;TZID=America/Chicago:20260324T080000
DTSTAMP:20260424T102347
CREATED:20260322T200751Z
LAST-MODIFIED:20260322T200751Z
UID:6278-1774337400-1774339200@townofgrant-portage.wi.gov
SUMMARY:Public Works Employee Meeting
DESCRIPTION:
URL:https://townofgrant-portage.wi.gov/event/public-works-employee-meeting-2/
END:VEVENT
BEGIN:VEVENT
DTSTART;TZID=America/Chicago:20260324T080000
DTEND;TZID=America/Chicago:20260324T083000
DTSTAMP:20260424T102347
CREATED:20260322T200857Z
LAST-MODIFIED:20260322T200857Z
UID:6281-1774339200-1774341000@townofgrant-portage.wi.gov
SUMMARY:Town Board Meeting (Closed)
DESCRIPTION:
URL:https://townofgrant-portage.wi.gov/event/town-board-meeting-closed-6/
END:VEVENT
BEGIN:VEVENT
DTSTART;TZID=America/Chicago:20260324T083000
DTEND;TZID=America/Chicago:20260324T090000
DTSTAMP:20260424T102347
CREATED:20260322T201215Z
LAST-MODIFIED:20260322T201215Z
UID:6284-1774341000-1774342800@townofgrant-portage.wi.gov
SUMMARY:Town Board Meeting
DESCRIPTION:
URL:https://townofgrant-portage.wi.gov/event/town-board-meeting-34/
END:VEVENT
BEGIN:VEVENT
DTSTART;TZID=America/Chicago:20260324T170000
DTEND;TZID=America/Chicago:20260324T190000
DTSTAMP:20260424T102347
CREATED:20260312T154759Z
LAST-MODIFIED:20260312T154759Z
UID:6244-1774371600-1774378800@townofgrant-portage.wi.gov
SUMMARY:Public Hearing
DESCRIPTION:
URL:https://townofgrant-portage.wi.gov/event/public-hearing-2/
CATEGORIES:Meetings
ATTACH;FMTTYPE=image/jpeg:https://cdn.townweb.com/townofgrant-portage.wi.gov/wp-content/uploads/2026/03/Portage-County-Zoning-Changes-Hearing-Information_page-0001.jpg
END:VEVENT
END:VCALENDAR