BEGIN:VCALENDAR
VERSION:2.0
PRODID:-//Town of Grant, Portage Co - ECPv5.16.4//NONSGML v1.0//EN
CALSCALE:GREGORIAN
METHOD:PUBLISH
X-WR-CALNAME:Town of Grant, Portage Co
X-ORIGINAL-URL:https://townofgrant-portage.wi.gov
X-WR-CALDESC:Events for Town of Grant, Portage Co
REFRESH-INTERVAL;VALUE=DURATION:PT1H
X-Robots-Tag:noindex
X-PUBLISHED-TTL:PT1H
BEGIN:VTIMEZONE
TZID:America/Chicago
BEGIN:DAYLIGHT
TZOFFSETFROM:-0600
TZOFFSETTO:-0500
TZNAME:CDT
DTSTART:20240310T080000
END:DAYLIGHT
BEGIN:STANDARD
TZOFFSETFROM:-0500
TZOFFSETTO:-0600
TZNAME:CST
DTSTART:20241103T070000
END:STANDARD
END:VTIMEZONE
BEGIN:VEVENT
DTSTART;TZID=America/Chicago:20240807T180000
DTEND;TZID=America/Chicago:20240807T200000
DTSTAMP:20260425T101221
CREATED:20230428T225603Z
LAST-MODIFIED:20240805T122112Z
UID:4206-1723053600-1723060800@townofgrant-portage.wi.gov
SUMMARY:Monthly Town Board Meeting
DESCRIPTION:
URL:https://townofgrant-portage.wi.gov/event/monthly-town-board-meeting-2-2024-03-13-2024-08-14/
CATEGORIES:Town Board
END:VEVENT
BEGIN:VEVENT
DTSTART;TZID=America/Chicago:20240808T073000
DTEND;TZID=America/Chicago:20240808T093000
DTSTAMP:20260425T101221
CREATED:20240805T121549Z
LAST-MODIFIED:20240805T121549Z
UID:4685-1723102200-1723109400@townofgrant-portage.wi.gov
SUMMARY:Town Board Meeting
DESCRIPTION:This is a closed meeting. Zoom is not available.
URL:https://townofgrant-portage.wi.gov/event/town-board-meeting-20/
END:VEVENT
BEGIN:VEVENT
DTSTART;TZID=America/Chicago:20240810T100000
DTEND;TZID=America/Chicago:20240810T110000
DTSTAMP:20260425T101221
CREATED:20240727T194512Z
LAST-MODIFIED:20240727T194512Z
UID:4664-1723284000-1723287600@townofgrant-portage.wi.gov
SUMMARY:Public Election Test
DESCRIPTION:
URL:https://townofgrant-portage.wi.gov/event/public-election-test-2/
CATEGORIES:Election
ATTACH;FMTTYPE=image/jpeg:https://cdn.townweb.com/townofgrant-portage.wi.gov/wp-content/uploads/2024/03/NOTICE-1.jpg
END:VEVENT
BEGIN:VEVENT
DTSTART;TZID=America/Chicago:20240812T180000
DTEND;TZID=America/Chicago:20240812T200000
DTSTAMP:20260425T101221
CREATED:20230305T175607Z
LAST-MODIFIED:20230305T175607Z
UID:697-1723485600-1723492800@townofgrant-portage.wi.gov
SUMMARY:1st Responders Meeting
DESCRIPTION:
URL:https://townofgrant-portage.wi.gov/event/1st-responders-meeting/2024-08-12/
CATEGORIES:Meetings
END:VEVENT
BEGIN:VEVENT
DTSTART;TZID=America/Chicago:20240813T070000
DTEND;TZID=America/Chicago:20240813T200000
DTSTAMP:20260425T101221
CREATED:20230829T235553Z
LAST-MODIFIED:20230830T123007Z
UID:2850-1723532400-1723579200@townofgrant-portage.wi.gov
SUMMARY:2024 Partisan Primary
DESCRIPTION:
URL:https://townofgrant-portage.wi.gov/event/2024-partisan-primary/
CATEGORIES:Election
ATTACH;FMTTYPE=image/jpeg:https://cdn.townweb.com/townofgrant-portage.wi.gov/wp-content/uploads/2023/04/vote-counts.jpg
END:VEVENT
BEGIN:VEVENT
DTSTART;TZID=America/Chicago:20240821T183000
DTEND;TZID=America/Chicago:20240821T210000
DTSTAMP:20260425T101221
CREATED:20240718T171335Z
LAST-MODIFIED:20240718T171335Z
UID:4629-1724265000-1724274000@townofgrant-portage.wi.gov
SUMMARY:Plan Commission Meeting
DESCRIPTION:
URL:https://townofgrant-portage.wi.gov/event/plan-commission-meeting-12/2024-08-21/
CATEGORIES:Plan Commission
END:VEVENT
END:VCALENDAR