BEGIN:VCALENDAR
VERSION:2.0
PRODID:-//Town of Grant, Portage Co - ECPv5.16.4//NONSGML v1.0//EN
CALSCALE:GREGORIAN
METHOD:PUBLISH
X-WR-CALNAME:Town of Grant, Portage Co
X-ORIGINAL-URL:https://townofgrant-portage.wi.gov
X-WR-CALDESC:Events for Town of Grant, Portage Co
REFRESH-INTERVAL;VALUE=DURATION:PT1H
X-Robots-Tag:noindex
X-PUBLISHED-TTL:PT1H
BEGIN:VTIMEZONE
TZID:America/Chicago
BEGIN:DAYLIGHT
TZOFFSETFROM:-0600
TZOFFSETTO:-0500
TZNAME:CDT
DTSTART:20250309T080000
END:DAYLIGHT
BEGIN:STANDARD
TZOFFSETFROM:-0500
TZOFFSETTO:-0600
TZNAME:CST
DTSTART:20251102T070000
END:STANDARD
END:VTIMEZONE
BEGIN:VEVENT
DTSTART;TZID=America/Chicago:20251107T093000
DTEND;TZID=America/Chicago:20251107T103000
DTSTAMP:20260425T142027
CREATED:20251106T134026Z
LAST-MODIFIED:20251106T134026Z
UID:5926-1762507800-1762511400@townofgrant-portage.wi.gov
SUMMARY:Town Board Meeting (PASER & WISLR)
DESCRIPTION:
URL:https://townofgrant-portage.wi.gov/event/town-board-meeting-paser-wislr/
END:VEVENT
BEGIN:VEVENT
DTSTART;TZID=America/Chicago:20251110T143000
DTEND;TZID=America/Chicago:20251110T153000
DTSTAMP:20260425T142027
CREATED:20251106T133848Z
LAST-MODIFIED:20251106T133848Z
UID:5923-1762785000-1762788600@townofgrant-portage.wi.gov
SUMMARY:Town Board Meeting (WISLR)
DESCRIPTION:
URL:https://townofgrant-portage.wi.gov/event/town-board-meeting-wislr/
END:VEVENT
BEGIN:VEVENT
DTSTART;TZID=America/Chicago:20251110T180000
DTEND;TZID=America/Chicago:20251110T200000
DTSTAMP:20260425T142027
CREATED:20230305T175607Z
LAST-MODIFIED:20230305T175607Z
UID:3325-1762797600-1762804800@townofgrant-portage.wi.gov
SUMMARY:1st Responders Meeting
DESCRIPTION:
URL:https://townofgrant-portage.wi.gov/event/1st-responders-meeting/2025-11-10/
CATEGORIES:Meetings
END:VEVENT
BEGIN:VEVENT
DTSTART;TZID=America/Chicago:20251112T180000
DTEND;TZID=America/Chicago:20251112T180000
DTSTAMP:20260425T142027
CREATED:20250124T011918Z
LAST-MODIFIED:20250124T011918Z
UID:5235-1762970400-1762970400@townofgrant-portage.wi.gov
SUMMARY:Monthly Town Board Meeting
DESCRIPTION:
URL:https://townofgrant-portage.wi.gov/event/monthly-town-board-meeting-3/2025-11-12/
CATEGORIES:Town Board
END:VEVENT
BEGIN:VEVENT
DTSTART;TZID=America/Chicago:20251119T183000
DTEND;TZID=America/Chicago:20251119T183000
DTSTAMP:20260425T142027
CREATED:20241219T203711Z
LAST-MODIFIED:20241219T203711Z
UID:5095-1763577000-1763577000@townofgrant-portage.wi.gov
SUMMARY:Plan Commission Meeting
DESCRIPTION:
URL:https://townofgrant-portage.wi.gov/event/plan-commission-meeting-14/2025-11-19/
CATEGORIES:Plan Commission
END:VEVENT
BEGIN:VEVENT
DTSTART;TZID=America/Chicago:20251120T123000
DTEND;TZID=America/Chicago:20251120T133000
DTSTAMP:20260425T142027
CREATED:20251118T230603Z
LAST-MODIFIED:20251118T230603Z
UID:5965-1763641800-1763645400@townofgrant-portage.wi.gov
SUMMARY:Town Board Meeting (Closed)
DESCRIPTION:
URL:https://townofgrant-portage.wi.gov/event/town-board-meeting-closed-4/
END:VEVENT
END:VCALENDAR