BEGIN:VCALENDAR
VERSION:2.0
PRODID:-//Town of Grant, Portage Co - ECPv5.16.4//NONSGML v1.0//EN
CALSCALE:GREGORIAN
METHOD:PUBLISH
X-WR-CALNAME:Town of Grant, Portage Co
X-ORIGINAL-URL:https://townofgrant-portage.wi.gov
X-WR-CALDESC:Events for Town of Grant, Portage Co
REFRESH-INTERVAL;VALUE=DURATION:PT1H
X-Robots-Tag:noindex
X-PUBLISHED-TTL:PT1H
BEGIN:VTIMEZONE
TZID:America/Chicago
BEGIN:DAYLIGHT
TZOFFSETFROM:-0600
TZOFFSETTO:-0500
TZNAME:CDT
DTSTART:20260308T080000
END:DAYLIGHT
BEGIN:STANDARD
TZOFFSETFROM:-0500
TZOFFSETTO:-0600
TZNAME:CST
DTSTART:20261101T070000
END:STANDARD
END:VTIMEZONE
BEGIN:VEVENT
DTSTART;TZID=America/Chicago:20260309T180000
DTEND;TZID=America/Chicago:20260309T200000
DTSTAMP:20260425T104042
CREATED:20230305T175607Z
LAST-MODIFIED:20230305T175607Z
UID:4214-1773079200-1773086400@townofgrant-portage.wi.gov
SUMMARY:1st Responders Meeting
DESCRIPTION:
URL:https://townofgrant-portage.wi.gov/event/1st-responders-meeting/2026-03-09/
CATEGORIES:Meetings
END:VEVENT
BEGIN:VEVENT
DTSTART;TZID=America/Chicago:20260311T180000
DTEND;TZID=America/Chicago:20260311T180000
DTSTAMP:20260425T104042
CREATED:20250124T011918Z
LAST-MODIFIED:20250124T011918Z
UID:5239-1773252000-1773252000@townofgrant-portage.wi.gov
SUMMARY:Monthly Town Board Meeting
DESCRIPTION:
URL:https://townofgrant-portage.wi.gov/event/monthly-town-board-meeting-3/2026-03-11/
CATEGORIES:Town Board
END:VEVENT
BEGIN:VEVENT
DTSTART;TZID=America/Chicago:20260311T190000
DTEND;TZID=America/Chicago:20260311T200000
DTSTAMP:20260425T104042
CREATED:20260309T141646Z
LAST-MODIFIED:20260309T141646Z
UID:6210-1773255600-1773259200@townofgrant-portage.wi.gov
SUMMARY:Town Board Meeting (Closed)
DESCRIPTION:
URL:https://townofgrant-portage.wi.gov/event/town-board-meeting-closed-5/
END:VEVENT
BEGIN:VEVENT
DTSTART;TZID=America/Chicago:20260316T153000
DTEND;TZID=America/Chicago:20260316T160000
DTSTAMP:20260425T104042
CREATED:20260217T212751Z
LAST-MODIFIED:20260314T195412Z
UID:6149-1773675000-1773676800@townofgrant-portage.wi.gov
SUMMARY:Oral Ruling (Cancelled)
DESCRIPTION:The Oral Hearing is now cancelled. A written decision is expected prior to June 29 \n  \nOral ruling on March 16th\, 2026 at 3:30PM regarding cases 23CV300 and 24CV194 held at Portage County Circuit Court Branch 3. \n\nNotice of Hearing
URL:https://townofgrant-portage.wi.gov/event/oral-ruling/
CATEGORIES:Community
END:VEVENT
BEGIN:VEVENT
DTSTART;TZID=America/Chicago:20260318T183000
DTEND;TZID=America/Chicago:20260318T183000
DTSTAMP:20260425T104042
CREATED:20251120T185007Z
LAST-MODIFIED:20251120T185007Z
UID:5987-1773858600-1773858600@townofgrant-portage.wi.gov
SUMMARY:Plan Commission Meeting
DESCRIPTION:
URL:https://townofgrant-portage.wi.gov/event/plan-commission-meeting-19/2026-03-18/
CATEGORIES:Plan Commission
END:VEVENT
BEGIN:VEVENT
DTSTART;TZID=America/Chicago:20260324T073000
DTEND;TZID=America/Chicago:20260324T080000
DTSTAMP:20260425T104042
CREATED:20260322T200751Z
LAST-MODIFIED:20260322T200751Z
UID:6278-1774337400-1774339200@townofgrant-portage.wi.gov
SUMMARY:Public Works Employee Meeting
DESCRIPTION:
URL:https://townofgrant-portage.wi.gov/event/public-works-employee-meeting-2/
END:VEVENT
BEGIN:VEVENT
DTSTART;TZID=America/Chicago:20260324T080000
DTEND;TZID=America/Chicago:20260324T083000
DTSTAMP:20260425T104042
CREATED:20260322T200857Z
LAST-MODIFIED:20260322T200857Z
UID:6281-1774339200-1774341000@townofgrant-portage.wi.gov
SUMMARY:Town Board Meeting (Closed)
DESCRIPTION:
URL:https://townofgrant-portage.wi.gov/event/town-board-meeting-closed-6/
END:VEVENT
BEGIN:VEVENT
DTSTART;TZID=America/Chicago:20260324T083000
DTEND;TZID=America/Chicago:20260324T090000
DTSTAMP:20260425T104042
CREATED:20260322T201215Z
LAST-MODIFIED:20260322T201215Z
UID:6284-1774341000-1774342800@townofgrant-portage.wi.gov
SUMMARY:Town Board Meeting
DESCRIPTION:
URL:https://townofgrant-portage.wi.gov/event/town-board-meeting-34/
END:VEVENT
BEGIN:VEVENT
DTSTART;TZID=America/Chicago:20260324T170000
DTEND;TZID=America/Chicago:20260324T190000
DTSTAMP:20260425T104042
CREATED:20260312T154759Z
LAST-MODIFIED:20260312T154759Z
UID:6244-1774371600-1774378800@townofgrant-portage.wi.gov
SUMMARY:Public Hearing
DESCRIPTION:
URL:https://townofgrant-portage.wi.gov/event/public-hearing-2/
CATEGORIES:Meetings
ATTACH;FMTTYPE=image/jpeg:https://cdn.townweb.com/townofgrant-portage.wi.gov/wp-content/uploads/2026/03/Portage-County-Zoning-Changes-Hearing-Information_page-0001.jpg
END:VEVENT
BEGIN:VEVENT
DTSTART;TZID=America/Chicago:20260328T100000
DTEND;TZID=America/Chicago:20260328T110000
DTSTAMP:20260425T104042
CREATED:20260305T180741Z
LAST-MODIFIED:20260309T142557Z
UID:6187-1774692000-1774695600@townofgrant-portage.wi.gov
SUMMARY:Public Election Test
DESCRIPTION:The Town of Grant will hold a public test of the electronic voting equipment on Saturday\, March 28th\, 2026 at 10:00 A.M. at the Town Hall\, located on the corner of Cty Hwy WW and 90th Street. \nAny person who has a qualifying disability as defined by the American’s With Disabilities Act that requires the meeting or materials at the meeting to be in an accessible location or format must contact the Clerk at 715-213-7370 \nprior to the meeting so that any necessary arrangements can be made to accommodate each request.
URL:https://townofgrant-portage.wi.gov/event/public-election-test-6/
CATEGORIES:Election
ATTACH;FMTTYPE=image/jpeg:https://cdn.townweb.com/townofgrant-portage.wi.gov/wp-content/uploads/2025/02/Public-Test-of-Electronic-Voting-Equipment.jpg
END:VEVENT
BEGIN:VEVENT
DTSTART;TZID=America/Chicago:20260331T170000
DTEND;TZID=America/Chicago:20260331T190000
DTSTAMP:20260425T104042
CREATED:20260226T183054Z
LAST-MODIFIED:20260226T183054Z
UID:6161-1774976400-1774983600@townofgrant-portage.wi.gov
SUMMARY:Election Inspector Training
DESCRIPTION:
URL:https://townofgrant-portage.wi.gov/event/election-inspector-training/
CATEGORIES:Community
END:VEVENT
END:VCALENDAR